BEGIN:VCALENDAR
VERSION:2.0
PRODID:-//adoretrust - ECPv5.14.0.4//NONSGML v1.0//EN
CALSCALE:GREGORIAN
METHOD:PUBLISH
X-WR-CALNAME:adoretrust
X-ORIGINAL-URL:https://drdixitlifestyle.org
X-WR-CALDESC:Events for adoretrust
BEGIN:VTIMEZONE
TZID:Asia/Kolkata
BEGIN:STANDARD
TZOFFSETFROM:+0530
TZOFFSETTO:+0530
TZNAME:IST
DTSTART:20240101T000000
END:STANDARD
END:VTIMEZONE
BEGIN:VEVENT
DTSTART;TZID=Asia/Kolkata:20240410T163000
DTEND;TZID=Asia/Kolkata:20240412T203000
DTSTAMP:20260421T181902
CREATED:20240311T191758Z
LAST-MODIFIED:20240829T072121Z
UID:23044-1712766600-1712953800@drdixitlifestyle.org
SUMMARY:HbA1c Testing camp (Discounted rates)
DESCRIPTION:[vc_row][vc_column][vc_column_text]HbA1c Testing camp (Discounted rates) held every month at the Centre. Dates: 10\,11 & 12 Every month (one day extended when Sunday comes in between dates).[/vc_column_text][vc_empty_space][vc_column_text][/vc_column_text][/vc_column][/vc_row]
URL:https://drdixitlifestyle.org/event/hba1c-testing-camp-discounted-rates/
LOCATION:5th Floor\, Gajanan Annex\, Near Magnum Hospital\, Patil Lane No 1\, College Road Nashik Maharashtra\, nashik\, India
CATEGORIES:Centers,Nashik
ATTACH;FMTTYPE=image/jpeg:https://drdixitlifestyle.org/wp-content/uploads/2024/03/PHOTO-2024-04-10-10-28-18-1.jpg
END:VEVENT
END:VCALENDAR